BEGIN:VCALENDAR
VERSION:2.0
CALSCALE:GREGORIAN
PRODID:-//Diputació de Barcelona//DibaCMS//EN
BEGIN:VEVENT
UID:2298
DTSTAMP:20260422T133751
DTSTART:20191121T110000
DTEND:20481120T000000
SUMMARY:Crida per participar com a voluntari al Gran Recapte d’Aliments el 22 i 23 de novembre
LOCATION:
METHOD:PUBLISH
X-WR-CALNAME:dosrius@dosrius.cat
X-WR-TIMEZONE:Europe/Madrid
DESCRIPTION:Els supermercats de Dosrius que participen en la campanya són Bon Àrea, Condis i Suma. Durant els dos dies els establiments habilitaran punts per fer efectiva la recollida d’aliments. 

URI:https://www.dosrius.cat/actualitat/noticies/crida-per-participar-com-a-voluntari-al-gran-recapte-daliments-el-22-i-23-de-novembre.html
CLASS:PUBLIC
END:VEVENT
END:VCALENDAR
