BEGIN:VCALENDAR
VERSION:2.0
CALSCALE:GREGORIAN
PRODID:-//Diputació de Barcelona//DibaCMS//EN
BEGIN:VEVENT
UID:2297
DTSTAMP:20260422T194412
DTSTART:20191120T110000
DTEND:20481113T000000
SUMMARY:Dosrius recupera el Camí Ral fins a Canyamars 
LOCATION:
METHOD:PUBLISH
X-WR-CALNAME:dosrius@dosrius.cat
X-WR-TIMEZONE:Europe/Madrid
DESCRIPTION:L’Ajuntament i la Diputació de Barcelona treballen conjuntament en la implantació d’una sistema de senyalització d’aquest històric vial.

URI:https://www.dosrius.cat/actualitat/noticies/dosrius-recupera-el-cami-ral-fins-a-canyamars-.html
CLASS:PUBLIC
END:VEVENT
END:VCALENDAR
