BEGIN:VCALENDAR
VERSION:2.0
CALSCALE:GREGORIAN
PRODID:-//Diputació de Barcelona//DibaCMS//EN
BEGIN:VEVENT
UID:2296
DTSTAMP:20260422T212149
DTSTART:20191118T080000
DTEND:20491126T000000
SUMMARY:El III Concurs Fotogràfic de Dosrius, Canyamars i El Far ja té guanyadors
LOCATION:
METHOD:PUBLISH
X-WR-CALNAME:dosrius@dosrius.cat
X-WR-TIMEZONE:Europe/Madrid
DESCRIPTION:El jurat ha guardonat José Luís Bastos Hernández amb el primer premi d’aquest certamen organitzat per l’Ajuntament. La imatge guanyadora, juntament amb les 12 fotografies premiades, formaran part del calendari de l’any 2020 que publicarà el consistori.

URI:https://www.dosrius.cat/actualitat/noticies/el-iii-concurs-fotografic-de-dosrius-canyamars-i-el-far-ja-te-guanyadors.html
CLASS:PUBLIC
END:VEVENT
END:VCALENDAR
