BEGIN:VCALENDAR
VERSION:2.0
CALSCALE:GREGORIAN
PRODID:-//Diputació de Barcelona//DibaCMS//EN
BEGIN:VEVENT
UID:2295
DTSTAMP:20260422T181123
DTSTART:20191114T000000
DTEND:20481119T000000
SUMMARY:La fibra òptica arribarà a Dosrius i a Canyamars a finals d’aquest any
LOCATION:
METHOD:PUBLISH
X-WR-CALNAME:dosrius@dosrius.cat
X-WR-TIMEZONE:Europe/Madrid
DESCRIPTION:En el cas de Can Massuet del Far el desplegament de la xarxa és previst durant els mesos de març i abril de 2020.

URI:https://www.dosrius.cat/actualitat/noticies/la-fibra-optica-arribara-a-dosrius-i-a-canyamars-a-finals-daquest-any.html
CLASS:PUBLIC
END:VEVENT
END:VCALENDAR
