BEGIN:VCALENDAR
VERSION:2.0
CALSCALE:GREGORIAN
PRODID:-//Diputació de Barcelona//DibaCMS//EN
BEGIN:VEVENT
UID:2294
DTSTAMP:20260422T181311
DTSTART:20191113T000000
DTEND:20481106T000000
SUMMARY:Suma’t a la campanya contra la violència masclista
LOCATION:
METHOD:PUBLISH
X-WR-CALNAME:dosrius@dosrius.cat
X-WR-TIMEZONE:Europe/Madrid
DESCRIPTION:L’Ajuntament de Dosrius fa una crida a veïns i veïnes, entitats i comerços a sumar-se a la commemoració del Dia Internacional per a l’Eliminació de la Violència Envers les Dones i a participar activament de les diferents accions que es duran a terme.

URI:https://www.dosrius.cat/actualitat/noticies/sumat-a-la-campanya-contra-la-violencia-masclista.html
CLASS:PUBLIC
END:VEVENT
END:VCALENDAR
