BEGIN:VCALENDAR
VERSION:2.0
CALSCALE:GREGORIAN
PRODID:-//Diputació de Barcelona//DibaCMS//EN
BEGIN:VEVENT
UID:2293
DTSTAMP:20260423T042118
DTSTART:20191119T090000
DTEND:20481120T000000
SUMMARY:Dosrius diu NO! a la violència masclista
LOCATION:
METHOD:PUBLISH
X-WR-CALNAME:dosrius@dosrius.cat
X-WR-TIMEZONE:Europe/Madrid
DESCRIPTION:En el marc de l’onzena edició de la campanya contra la violència masclista al municipi, l’Ajuntament impulsa els mesos de novembre i desembre diferents propostes lúdiques i reivindicatives per treballar conjuntament en la defensa dels drets de les dones.

URI:https://www.dosrius.cat/actualitat/noticies/dosrius-diu-no-a-la-violencia-masclista.html
CLASS:PUBLIC
END:VEVENT
END:VCALENDAR
