BEGIN:VCALENDAR
VERSION:2.0
CALSCALE:GREGORIAN
PRODID:-//Diputació de Barcelona//DibaCMS//EN
BEGIN:VEVENT
UID:2287
DTSTAMP:20260422T133701
DTSTART:20191111T120000
DTEND:20481121T000000
SUMMARY:Emagina presentarà als veïns i veïnes el catàleg de serveis de fibra òptica que oferirà pròximament al municipi
LOCATION:
METHOD:PUBLISH
X-WR-CALNAME:dosrius@dosrius.cat
X-WR-TIMEZONE:Europe/Madrid
DESCRIPTION:Al llarg de les pròximes setmanes és previst que finalitzin els treballs de desplegament de la xarxa de fibra òptica tant a Dosrius com a Canyamars. 

URI:https://www.dosrius.cat/actualitat/noticies/emagina-presentara-als-veins-i-veines-el-cataleg-de-serveis-de-fibra-optica-que-oferira-proximament-al-municipi.html
CLASS:PUBLIC
END:VEVENT
END:VCALENDAR
