BEGIN:VCALENDAR
VERSION:2.0
CALSCALE:GREGORIAN
PRODID:-//Diputació de Barcelona//DibaCMS//EN
BEGIN:VEVENT
UID:2280
DTSTAMP:20260422T104045
DTSTART:20191031T000000
DTEND:20481016T000000
SUMMARY:Els alumnes de l’Escola Castell de Dosrius participen d’una activitat de descoberta del patrimoni local 
LOCATION:
METHOD:PUBLISH
X-WR-CALNAME:dosrius@dosrius.cat
X-WR-TIMEZONE:Europe/Madrid
DESCRIPTION:Els joves han pogut recórrer i conèixer de primera mà alguns dels indrets més emblemàtics de Dosrius a través de les explicacions, anècdotes i vivències de veïns i veïnes de la vila.

URI:https://www.dosrius.cat/actualitat/noticies/els-alumnes-de-lescola-castell-de-dosrius-participen-duna-activitat-de-descoberta-del-patrimoni-local-.html
CLASS:PUBLIC
END:VEVENT
END:VCALENDAR
