BEGIN:VCALENDAR
VERSION:2.0
CALSCALE:GREGORIAN
PRODID:-//Diputació de Barcelona//DibaCMS//EN
BEGIN:VEVENT
UID:2275
DTSTAMP:20260422T103626
DTSTART:20191022T000000
DTEND:20481022T000000
SUMMARY:Pilots vinguts d’arreu de Catalunya es donen cita a Canyamars 
LOCATION:
METHOD:PUBLISH
X-WR-CALNAME:dosrius@dosrius.cat
X-WR-TIMEZONE:Europe/Madrid
DESCRIPTION:L’Ajuntament felicita el Motoclub Canyamars, i als familiars, amics i voluntaris que van col·laborar en l’organització de les 2 Hores Resistència Terra, per l’èxit de participació i organització assolit en aquest esdeveniment.

URI:https://www.dosrius.cat/actualitat/noticies/pilots-vinguts-darreu-de-catalunya-es-donen-cita-a-canyamars-.html
CLASS:PUBLIC
END:VEVENT
END:VCALENDAR
