BEGIN:VCALENDAR
VERSION:2.0
CALSCALE:GREGORIAN
PRODID:-//Diputació de Barcelona//DibaCMS//EN
BEGIN:VEVENT
UID:2272
DTSTAMP:20260423T051915
DTSTART:20191021T000000
DTEND:20481023T000000
SUMMARY:La Castanyada arriba a Dosrius amb un taller de panellets
LOCATION:
METHOD:PUBLISH
X-WR-CALNAME:dosrius@dosrius.cat
X-WR-TIMEZONE:Europe/Madrid
DESCRIPTION:L’Ajuntament de Dosrius fa una crida als veïns i veïnes a sumar-se a aquesta activitat i desitja a tota la població una feliç Castanyada.

URI:https://www.dosrius.cat/actualitat/noticies/la-castanyada-arriba-a-dosrius-amb-un-taller-de-panellets.html
CLASS:PUBLIC
END:VEVENT
END:VCALENDAR
