BEGIN:VCALENDAR
VERSION:2.0
CALSCALE:GREGORIAN
PRODID:-//Diputació de Barcelona//DibaCMS//EN
BEGIN:VEVENT
UID:2269
DTSTAMP:20260422T135555
DTSTART:20191016T210000
DTEND:20481024T000000
SUMMARY:L’Ajuntament aprova una moció per demanar l’amnistia de les persones preses polítiques catalanes
LOCATION:
METHOD:PUBLISH
X-WR-CALNAME:dosrius@dosrius.cat
X-WR-TIMEZONE:Europe/Madrid
DESCRIPTION:El text va ser aprovat en sessió plenària extraordinària amb 8 vots a favor.

URI:https://www.dosrius.cat/actualitat/noticies/lajuntament-aprova-una-mocio-per-demanar-lamnistia-de-les-persones-preses-politiques-catalanes.html
CLASS:PUBLIC
END:VEVENT
END:VCALENDAR
