BEGIN:VCALENDAR
VERSION:2.0
CALSCALE:GREGORIAN
PRODID:-//Diputació de Barcelona//DibaCMS//EN
BEGIN:VEVENT
UID:2262
DTSTAMP:20260422T133902
DTSTART:20191003T000000
DTEND:20481023T000000
SUMMARY:Gaudeix del Delta de l’Ebre amb Els Localets
LOCATION:
METHOD:PUBLISH
X-WR-CALNAME:dosrius@dosrius.cat
X-WR-TIMEZONE:Europe/Madrid
DESCRIPTION:La sortida tindrà lloc el dijous 24 d’octubre i per a participar-hi cal inscriure’s prèviament, abans del 21 d’octubre, a l’Ajuntament o trucant al telèfon 93 791 80 14.

URI:https://www.dosrius.cat/actualitat/noticies/gaudeix-del-delta-de-lebre-amb-els-localets.html
CLASS:PUBLIC
END:VEVENT
END:VCALENDAR
