BEGIN:VCALENDAR
VERSION:2.0
CALSCALE:GREGORIAN
PRODID:-//Diputació de Barcelona//DibaCMS//EN
BEGIN:VEVENT
UID:2261
DTSTAMP:20260422T151310
DTSTART:20191018T120000
DTEND:20481009T000000
SUMMARY:La Fira del Bosc-Canyamars Medieval torna aquest 2019 preparada per encisar de nou al públic 
LOCATION:
METHOD:PUBLISH
X-WR-CALNAME:dosrius@dosrius.cat
X-WR-TIMEZONE:Europe/Madrid
DESCRIPTION:El cap de setmana del 19 i 20 d’octubre, Canyamars acollirà accions teatralitzades, recreacions històriques, música i dansa, parades d’artesania i gastronomia, demostracions d’oficis i jocs.

URI:https://www.dosrius.cat/actualitat/noticies/la-fira-del-bosc-canyamars-medieval-torna-aquest-2019-preparada-per-encisar-de-nou-al-public-.html
CLASS:PUBLIC
END:VEVENT
END:VCALENDAR
