BEGIN:VCALENDAR
VERSION:2.0
CALSCALE:GREGORIAN
PRODID:-//Diputació de Barcelona//DibaCMS//EN
BEGIN:VEVENT
UID:2260
DTSTAMP:20260422T104118
DTSTART:20191001T120000
DTEND:20480918T000000
SUMMARY:Can Batlle ja està preparat per acollir el nou edifici de l’Institut Els Roures i la nova Biblioteca Esteve Albert i Corp
LOCATION:
METHOD:PUBLISH
X-WR-CALNAME:dosrius@dosrius.cat
X-WR-TIMEZONE:Europe/Madrid
DESCRIPTION:L’espai serà la futura seu d’aquests dos nous equipaments municipals i també comptarà amb 121 places d’aparcament i tres nous vials que milloraran l’accessibilitat, la mobilitat i la seguretat i reactivaran la zona.

URI:https://www.dosrius.cat/actualitat/noticies/can-batlle-ja-esta-preparat-per-acollir-el-nou-edifici-de-linstitut-els-roures-i-la-nova-biblioteca-esteve-albert-i-corp.html
CLASS:PUBLIC
END:VEVENT
END:VCALENDAR
