BEGIN:VCALENDAR
VERSION:2.0
CALSCALE:GREGORIAN
PRODID:-//Diputació de Barcelona//DibaCMS//EN
BEGIN:VEVENT
UID:2252
DTSTAMP:20260422T164350
DTSTART:20190925T000000
DTEND:21140923T121200
SUMMARY:Apunta't als tallers educatius i de mindfulness de Dosrius!  
LOCATION:
METHOD:PUBLISH
X-WR-CALNAME:dosrius@dosrius.cat
X-WR-TIMEZONE:Europe/Madrid
DESCRIPTION:Per participar en les formacions, de caràcter gratuït, només us caldrà inscriure-us a l’Ajuntament de Dosrius. 

URI:https://www.dosrius.cat/actualitat/noticies/apuntat-als-tallers-educatius-i-de-mindfulness-de-dosrius-.html
CLASS:PUBLIC
END:VEVENT
END:VCALENDAR
