BEGIN:VCALENDAR
VERSION:2.0
CALSCALE:GREGORIAN
PRODID:-//Diputació de Barcelona//DibaCMS//EN
BEGIN:VEVENT
UID:2251
DTSTAMP:20260421T133254
DTSTART:20190920T000000
DTEND:28370423T000000
SUMMARY:La nit serà violeta a Dosrius 
LOCATION:
METHOD:PUBLISH
X-WR-CALNAME:dosrius@dosrius.cat
X-WR-TIMEZONE:Europe/Madrid
DESCRIPTION:L’Ajuntament de Dosrius convida totes les veïnes i veïns del municipi a sumar-se a aquesta iniciativa, amb l’encesa d’una espelma a les seves finestres i/o balcons i, d’aquesta manera, manifestar-se davant l’increment d’assassinats a dones en tot l’estat.

URI:https://www.dosrius.cat/actualitat/noticies/la-nit-sera-violeta-a-dosrius-.html
CLASS:PUBLIC
END:VEVENT
END:VCALENDAR
