BEGIN:VCALENDAR
VERSION:2.0
CALSCALE:GREGORIAN
PRODID:-//Diputació de Barcelona//DibaCMS//EN
BEGIN:VEVENT
UID:2246
DTSTAMP:20260422T135854
DTSTART:20190913T000000
DTEND:20350728T121200
SUMMARY:Noves passes per a l'arribada de la fibra òptica a Dosrius 
LOCATION:
METHOD:PUBLISH
X-WR-CALNAME:dosrius@dosrius.cat
X-WR-TIMEZONE:Europe/Madrid
DESCRIPTION:La instal·lació d’aquesta tecnologia podria ser una realitat a tot el municipi a principis de l’any vinent.  

URI:https://www.dosrius.cat/actualitat/noticies/noves-passes-per-a-larribada-de-la-fibra-optica-a-dosrius-.html
CLASS:PUBLIC
END:VEVENT
END:VCALENDAR
