BEGIN:VCALENDAR
VERSION:2.0
CALSCALE:GREGORIAN
PRODID:-//Diputació de Barcelona//DibaCMS//EN
BEGIN:VEVENT
UID:2245
DTSTAMP:20260422T135522
DTSTART:20190930T070000
DTEND:20890929T000000
SUMMARY:Tot a punt per celebrar una nova jornada d'agraïment a la gent gran del poble
LOCATION:
METHOD:PUBLISH
X-WR-CALNAME:dosrius@dosrius.cat
X-WR-TIMEZONE:Europe/Madrid
DESCRIPTION:Arriba la 55a edició de la Festa de la Gent Gran, que tindrà lloc el diumenge 6 d’octubre  a partir de les 10.30 h. Els actes seran gratuïts per a la gent gran del municipi, que podran portar un acompanyant. Caldrà inscripció prèvia. 

URI:https://www.dosrius.cat/actualitat/noticies/tot-a-punt-per-celebrar-una-nova-jornada-dagraiment-a-la-gent-gran-del-poble.html
CLASS:PUBLIC
END:VEVENT
END:VCALENDAR
