BEGIN:VCALENDAR
VERSION:2.0
CALSCALE:GREGORIAN
PRODID:-//Diputació de Barcelona//DibaCMS//EN
BEGIN:VEVENT
UID:2243
DTSTAMP:20260422T135910
DTSTART:20190904T000000
DTEND:20480911T000000
SUMMARY:Nova convocatòria d’ajuts escolars per al curs 2019-2020
LOCATION:
METHOD:PUBLISH
X-WR-CALNAME:dosrius@dosrius.cat
X-WR-TIMEZONE:Europe/Madrid
DESCRIPTION:Les sol·licituds es poden presentar del 5 de setembre al 4 d’octubre.

URI:https://www.dosrius.cat/actualitat/noticies/nova-convocatoria-dajuts-escolars-per-al-curs-2019-2020.html
CLASS:PUBLIC
END:VEVENT
END:VCALENDAR
