BEGIN:VCALENDAR
VERSION:2.0
CALSCALE:GREGORIAN
PRODID:-//Diputació de Barcelona//DibaCMS//EN
BEGIN:VEVENT
UID:2242
DTSTAMP:20260420T172258
DTSTART:20190906T100000
DTEND:20480911T000000
SUMMARY:Dosrius se suma a la commemoració de la Diada Nacional de Catalunya 
LOCATION:
METHOD:PUBLISH
X-WR-CALNAME:dosrius@dosrius.cat
X-WR-TIMEZONE:Europe/Madrid
DESCRIPTION:L’Ajuntament convida als veïns i veïnes a participar l’11 de setembre dels diferents actes que es duran a terme al municipi.

URI:https://www.dosrius.cat/actualitat/noticies/dosrius-se-suma-a-la-commemoracio-de-la-diada-nacional-de-catalunya-.html
CLASS:PUBLIC
END:VEVENT
END:VCALENDAR
