BEGIN:VCALENDAR
VERSION:2.0
CALSCALE:GREGORIAN
PRODID:-//Diputació de Barcelona//DibaCMS//EN
BEGIN:VEVENT
UID:2228
DTSTAMP:20260422T173228
DTSTART:20190812T090000
DTEND:20480716T000000
SUMMARY:L’Ajuntament aposta per la inserció laboral de les persones amb discapacitat
LOCATION:
METHOD:PUBLISH
X-WR-CALNAME:dosrius@dosrius.cat
X-WR-TIMEZONE:Europe/Madrid
DESCRIPTION:Membres del programa INSERTA de la Fundació ONCE han visitat Dosrius per explicar el seu projecte.

URI:https://www.dosrius.cat/actualitat/noticies/2228-lajuntament-aposta-per-la-insercio-laboral-de-les-persones-amb-discapacitat.html
CLASS:PUBLIC
END:VEVENT
END:VCALENDAR
