BEGIN:VCALENDAR
VERSION:2.0
CALSCALE:GREGORIAN
PRODID:-//Diputació de Barcelona//DibaCMS//EN
BEGIN:VEVENT
UID:2222
DTSTAMP:20260422T121846
DTSTART:20190820T080000
DTEND:20480717T000000
SUMMARY:Vine a gaudir de les festes majors d’aquest 2019!
LOCATION:
METHOD:PUBLISH
X-WR-CALNAME:dosrius@dosrius.cat
X-WR-TIMEZONE:Europe/Madrid
DESCRIPTION:Canyamars (1-4 d’agost), Can Massuet del Far (8-11 d’agost) i Dosrius (29 d’agost – 1 de setembre) tornaran a omplir els carrers de color, festivitat, alegria tradició i cultura durant la Festa Major. Descarrega’t el programa d’activitats.

URI:https://www.dosrius.cat/actualitat/noticies/vine-a-gaudir-de-les-festes-majors-daquest-2019.html
CLASS:PUBLIC
END:VEVENT
END:VCALENDAR
