BEGIN:VCALENDAR
VERSION:2.0
CALSCALE:GREGORIAN
PRODID:-//Diputació de Barcelona//DibaCMS//EN
BEGIN:VEVENT
UID:2217
DTSTAMP:20260422T120218
DTSTART:20190830T110000
DTEND:20480716T000000
SUMMARY:La Trobada de Puntaires commemora la seva 25a edició
LOCATION:
METHOD:PUBLISH
X-WR-CALNAME:dosrius@dosrius.cat
X-WR-TIMEZONE:Europe/Madrid
DESCRIPTION:Diumenge 15 de setembre la plaça del Comú acollirà exhibicions, espais d’intercanvi i de compra de material i algunes sorpreses amb aquest art centenari com a gran protagonista.

URI:https://www.dosrius.cat/actualitat/noticies/la-trobada-de-puntaires-commemora-la-seva-25a-edicio.html
CLASS:PUBLIC
END:VEVENT
END:VCALENDAR
