BEGIN:VCALENDAR
VERSION:2.0
CALSCALE:GREGORIAN
PRODID:-//Diputació de Barcelona//DibaCMS//EN
BEGIN:VEVENT
UID:2211
DTSTAMP:20260422T222743
DTSTART:20190712T120000
DTEND:20480716T000000
SUMMARY:Apunta’t al nou programa d’activitats d’”Els Localets” 
LOCATION:
METHOD:PUBLISH
X-WR-CALNAME:dosrius@dosrius.cat
X-WR-TIMEZONE:Europe/Madrid
DESCRIPTION:Les inscripcions es poden formalitzar a l’Ajuntament fins al 26 de juliol. Per a més informació, podeu trucar al telèfon 673 002 613.

URI:https://www.dosrius.cat/actualitat/noticies/apuntat-al-nou-programa-dactivitats-dels-localets-.html
CLASS:PUBLIC
END:VEVENT
END:VCALENDAR
