BEGIN:VCALENDAR
VERSION:2.0
CALSCALE:GREGORIAN
PRODID:-//Diputació de Barcelona//DibaCMS//EN
BEGIN:VEVENT
UID:2210
DTSTAMP:20260422T181325
DTSTART:20190712T100000
DTEND:20480717T000000
SUMMARY:Ja es troben disponibles els horaris d’estiu dels consultoris mèdics locals
LOCATION:
METHOD:PUBLISH
X-WR-CALNAME:dosrius@dosrius.cat
X-WR-TIMEZONE:Europe/Madrid
DESCRIPTION:Durant els mesos estivals, alguns dispensaris del municipi tancaran les seves portes en dies puntuals.

URI:https://www.dosrius.cat/actualitat/noticies/ja-es-troben-disponibles-els-horaris-destiu-dels-consultoris-medics-locals.html
CLASS:PUBLIC
END:VEVENT
END:VCALENDAR
