BEGIN:VCALENDAR
VERSION:2.0
CALSCALE:GREGORIAN
PRODID:-//Diputació de Barcelona//DibaCMS//EN
BEGIN:VEVENT
UID:2201
DTSTAMP:20260422T222643
DTSTART:20190705T000000
DTEND:20480717T000000
SUMMARY:Marco Morelli guanya la tercera carrera del campionat de Superbikes
LOCATION:
METHOD:PUBLISH
X-WR-CALNAME:dosrius@dosrius.cat
X-WR-TIMEZONE:Europe/Madrid
DESCRIPTION:L’Ajuntament felicita al pilot dosriuenc per aquesta prestigiosa victòria que el situa en tercera posició a la classificació general.

URI:https://www.dosrius.cat/actualitat/noticies/marco-morelli-guanya-la-tercera-carrera-del-campionat-de-superbikes.html
CLASS:PUBLIC
END:VEVENT
END:VCALENDAR
