BEGIN:VCALENDAR
VERSION:2.0
CALSCALE:GREGORIAN
PRODID:-//Diputació de Barcelona//DibaCMS//EN
BEGIN:VEVENT
UID:2184
DTSTAMP:20260422T195113
DTSTART:20190628T000000
DTEND:20480619T210000
SUMMARY:El Servei Local de Teleassistència activa el protocol per a fer front a l’onada de calor
LOCATION:
METHOD:PUBLISH
X-WR-CALNAME:dosrius@dosrius.cat
X-WR-TIMEZONE:Europe/Madrid
DESCRIPTION:Actualment el servei es presta a un total de 65 persones usuàries del municipi.

URI:https://www.dosrius.cat/actualitat/noticies/el-servei-local-de-teleassistencia-activa-el-protocol-per-a-fer-front-a-lonada-de-calor.html
CLASS:PUBLIC
END:VEVENT
END:VCALENDAR
