BEGIN:VCALENDAR
VERSION:2.0
CALSCALE:GREGORIAN
PRODID:-//Diputació de Barcelona//DibaCMS//EN
BEGIN:VEVENT
UID:2179
DTSTAMP:20260422T212019
DTSTART:20190625T080000
DTEND:20480612T000000
SUMMARY:L’Oficina Mòbil d’Informació al Consumidor atendrà les consultes veïnals el 10 de juliol
LOCATION:
METHOD:PUBLISH
X-WR-CALNAME:dosrius@dosrius.cat
X-WR-TIMEZONE:Europe/Madrid
DESCRIPTION:El servei es prestarà dimecres 10 de juliol, de 10.30 h a 11.30 h, a l’aparcament ubicat davant de l’Ajuntament. 

URI:https://www.dosrius.cat/actualitat/noticies/loficina-mobil-dinformacio-al-consumidor-atendra-les-consultes-veinals-el-10-de-juliol.html
CLASS:PUBLIC
END:VEVENT
END:VCALENDAR
