BEGIN:VCALENDAR
VERSION:2.0
CALSCALE:GREGORIAN
PRODID:-//Diputació de Barcelona//DibaCMS//EN
BEGIN:VEVENT
UID:2175
DTSTAMP:20260422T164755
DTSTART:20190617T000000
DTEND:20480611T000000
SUMMARY:Sílvia Garrido Galera és elegida alcaldessa de Dosrius
LOCATION:
METHOD:PUBLISH
X-WR-CALNAME:dosrius@dosrius.cat
X-WR-TIMEZONE:Europe/Madrid
DESCRIPTION:El Ple investeix a la cap de llista del PSC-CP com a nova alcaldessa pel mandat 2019-2023.

URI:https://www.dosrius.cat/actualitat/noticies/silvia-garrido-galera-es-elegida-alcaldessa-de-dosrius.html
CLASS:PUBLIC
END:VEVENT
END:VCALENDAR
