BEGIN:VCALENDAR
VERSION:2.0
CALSCALE:GREGORIAN
PRODID:-//Diputació de Barcelona//DibaCMS//EN
BEGIN:VEVENT
UID:2171
DTSTAMP:20260422T223741
DTSTART:20190612T000000
DTEND:20480611T000000
SUMMARY:Dissabte 15 de juny tindrà lloc el Ple d’Investidura
LOCATION:
METHOD:PUBLISH
X-WR-CALNAME:dosrius@dosrius.cat
X-WR-TIMEZONE:Europe/Madrid
DESCRIPTION:L’Ajuntament de Dosrius donarà el tret de sortida al nou mandat municipal.

URI:https://www.dosrius.cat/actualitat/noticies/dissabte-15-de-juny-tindra-lloc-el-ple-dinvestidura.html
CLASS:PUBLIC
END:VEVENT
END:VCALENDAR
