BEGIN:VCALENDAR
VERSION:2.0
CALSCALE:GREGORIAN
PRODID:-//Diputació de Barcelona//DibaCMS//EN
BEGIN:VEVENT
UID:2169
DTSTAMP:20260419T190244
DTSTART:20190605T000000
DTEND:20480612T000000
SUMMARY:Pep Lladó dissenya el cartell de les festes majors de Dosrius, Canyamars i Can Massuet del Far
LOCATION:
METHOD:PUBLISH
X-WR-CALNAME:dosrius@dosrius.cat
X-WR-TIMEZONE:Europe/Madrid
DESCRIPTION:L’artista dosriuenc ha estat l’encarregat enguany de dissenyar la imatge de les tres festivitats locals, que tindran lloc els mesos d’agost i setembre.

URI:https://www.dosrius.cat/actualitat/noticies/pep-llado-dissenya-el-cartell-de-les-festes-majors-de-dosrius-canyamars-i-can-massuet-del-far.html
CLASS:PUBLIC
END:VEVENT
END:VCALENDAR
