BEGIN:VCALENDAR
VERSION:2.0
CALSCALE:GREGORIAN
PRODID:-//Diputació de Barcelona//DibaCMS//EN
BEGIN:VEVENT
UID:2160
DTSTAMP:20260422T152058
DTSTART:20190524T000000
DTEND:20480522T000000
SUMMARY:El conseller Josep Bargalló visita Dosrius per conèixer el projecte educatiu del municipi
LOCATION:
METHOD:PUBLISH
X-WR-CALNAME:dosrius@dosrius.cat
X-WR-TIMEZONE:Europe/Madrid
DESCRIPTION:
@page { size: 21cm 29.7cm; margin: 2cm }
		p { margin-bottom: 0.25cm; direction: ltr; color: #000000; line-height: 115%; orphans: 2; widows: 2; background: transparent }
		p.western { font-family: "Liberation Serif", "Times New Roman", serif; font-size: 12pt; so-language: ca-ES }
		p.cjk { font-family: "NSimSun", monospace; font-size: 12pt; so-language: zh-CN }
		p.ctl { font-family: "Lucida Sans", sans-serif; font-size: 12pt; so-language: hi-IN }
		a:link { color: #0000ff; text-decoration: underline }



El titular d’Educació ha visitat l’Escola Castell de Dosrius, l’Institut Els Roures i l’espai de Can Batlle que acollirà el nou institut i la futura Biblioteca Esteve Albert i Corp.

URI:https://www.dosrius.cat/actualitat/noticies/el-conseller-josep-bargallo-visita-dosrius-per-coneixer-el-projecte-educatiu-del-municipi.html
CLASS:PUBLIC
END:VEVENT
END:VCALENDAR
