BEGIN:VCALENDAR
VERSION:2.0
CALSCALE:GREGORIAN
PRODID:-//Diputació de Barcelona//DibaCMS//EN
BEGIN:VEVENT
UID:2159
DTSTAMP:20260422T152113
DTSTART:20190523T000000
DTEND:20480514T000000
SUMMARY:Nous horaris i recorreguts del bus interurbà a partir de l'1 de juny
LOCATION:
METHOD:PUBLISH
X-WR-CALNAME:dosrius@dosrius.cat
X-WR-TIMEZONE:Europe/Madrid
DESCRIPTION:Els canvis implicaran, entre d’altres, l’augment substancial del nombre d’expedicions o la reducció de l’interval d’espera. 

URI:https://www.dosrius.cat/actualitat/noticies/nous-horaris-i-recorreguts-del-bus-interurba-a-partir-de-l1-de-juny.html
CLASS:PUBLIC
END:VEVENT
END:VCALENDAR
