BEGIN:VCALENDAR
VERSION:2.0
CALSCALE:GREGORIAN
PRODID:-//Diputació de Barcelona//DibaCMS//EN
BEGIN:VEVENT
UID:2154
DTSTAMP:20260422T194503
DTSTART:20190520T000000
DTEND:20480516T000000
SUMMARY:Aquest mes de juny, sigueu “Benvinguts a Pagès” a Dosrius i a Canyamars!
LOCATION:
METHOD:PUBLISH
X-WR-CALNAME:dosrius@dosrius.cat
X-WR-TIMEZONE:Europe/Madrid
DESCRIPTION:Les visites a la Granja de Can Gel i a la Granja Sant Llop són dues de les propostes per al cap de setmana de l’1 i 2 de juny.

URI:https://www.dosrius.cat/actualitat/noticies/aquest-mes-de-juny-sigueu-benvinguts-a-pages-a-dosrius-i-a-canyamars.html
CLASS:PUBLIC
END:VEVENT
END:VCALENDAR
