BEGIN:VCALENDAR
VERSION:2.0
CALSCALE:GREGORIAN
PRODID:-//Diputació de Barcelona//DibaCMS//EN
BEGIN:VEVENT
UID:2150
DTSTAMP:20260422T170840
DTSTART:20190517T000000
DTEND:20480515T000000
SUMMARY:L’Ajuntament organitza un debat electoral amb els caps de llista a les eleccions municipals de Dosrius
LOCATION:
METHOD:PUBLISH
X-WR-CALNAME:dosrius@dosrius.cat
X-WR-TIMEZONE:Europe/Madrid
DESCRIPTION:La sessió, oberta a tota la ciutadania, tindrà lloc dilluns 20 de maig a la Sala de Plens del consistori.

URI:https://www.dosrius.cat/actualitat/noticies/lajuntament-organitza-un-debat-electoral-amb-els-caps-de-llista-a-les-eleccions-municipals-de-dosrius.html
CLASS:PUBLIC
END:VEVENT
END:VCALENDAR
