BEGIN:VCALENDAR
VERSION:2.0
CALSCALE:GREGORIAN
PRODID:-//Diputació de Barcelona//DibaCMS//EN
BEGIN:VEVENT
UID:2143
DTSTAMP:20260422T134016
DTSTART:20190510T090000
DTEND:20480515T000000
SUMMARY:L’Arxiu Municipal i l’Oficina de Patrimoni Cultural obren noves vies de col·laboració
LOCATION:
METHOD:PUBLISH
X-WR-CALNAME:dosrius@dosrius.cat
X-WR-TIMEZONE:Europe/Madrid
DESCRIPTION:L’AMD ha incorporat temporalment un nou tècnic arxiver, i properament també és previst que es doti amb un nou programa informàtic més modern, complet, àgil i eficient.  

URI:https://www.dosrius.cat/actualitat/noticies/larxiu-municipal-i-loficina-de-patrimoni-cultural-obren-noves-vies-de-collaboracio.html
CLASS:PUBLIC
END:VEVENT
END:VCALENDAR
