BEGIN:VCALENDAR
VERSION:2.0
CALSCALE:GREGORIAN
PRODID:-//Diputació de Barcelona//DibaCMS//EN
BEGIN:VEVENT
UID:2137
DTSTAMP:20260422T140013
DTSTART:20190430T150000
DTEND:20480430T000000
SUMMARY:La Generalitat dona llum verda a la construcció del nou edifici de l’Institut Els Roures
LOCATION:
METHOD:PUBLISH
X-WR-CALNAME:dosrius@dosrius.cat
X-WR-TIMEZONE:Europe/Madrid
DESCRIPTION:A finals d’aquesta primavera és previst que finalitzin els treballs previs d’urbanització i condicionament dels terrenys de Can Batlle on s’ubicarà el nou centre educatiu. 

URI:https://www.dosrius.cat/actualitat/noticies/la-generalitat-dona-llum-verda-a-la-construccio-del-nou-edifici-de-linstitut-els-roures.html
CLASS:PUBLIC
END:VEVENT
END:VCALENDAR
