BEGIN:VCALENDAR
VERSION:2.0
CALSCALE:GREGORIAN
PRODID:-//Diputació de Barcelona//DibaCMS//EN
BEGIN:VEVENT
UID:2125
DTSTAMP:20260422T120336
DTSTART:20190417T000000
DTEND:20480418T000000
SUMMARY:L’Ajuntament incorpora personal temporal a través d’ajuts econòmics de la Diputació de Barcelona
LOCATION:
METHOD:PUBLISH
X-WR-CALNAME:dosrius@dosrius.cat
X-WR-TIMEZONE:Europe/Madrid
DESCRIPTION:
@page { size: 21cm 29.7cm; margin: 2cm }
		p { margin-bottom: 0.25cm; direction: ltr; color: #000000; line-height: 115%; orphans: 2; widows: 2; background: transparent }
		p.western { font-family: "Calibri", sans-serif; font-size: 11pt; so-language: ca-ES }
		p.cjk { font-family: "Calibri", sans-serif; font-size: 11pt; so-language: zh-CN }
		p.ctl { font-family: "Times New Roman", serif; font-size: 11pt; so-language: ar-SA }



El consistori ha incorporat, amb caràcter temporal, una treballadora social, un peó de la Brigada municipal i una auxiliar administrativa.

URI:https://www.dosrius.cat/actualitat/noticies/lajuntament-incorpora-personal-temporal-a-traves-dajuts-economics-de-la-diputacio-de-barcelona.html
CLASS:PUBLIC
END:VEVENT
END:VCALENDAR
