BEGIN:VCALENDAR
VERSION:2.0
CALSCALE:GREGORIAN
PRODID:-//Diputació de Barcelona//DibaCMS//EN
BEGIN:VEVENT
UID:2121
DTSTAMP:20260422T120003
DTSTART:20190415T120000
DTEND:20480417T000000
SUMMARY:El fons d’art de l’Ajuntament es nodreix amb un quadre de Nel Boya-de Groot 
LOCATION:
METHOD:PUBLISH
X-WR-CALNAME:dosrius@dosrius.cat
X-WR-TIMEZONE:Europe/Madrid
DESCRIPTION:L’artista holandesa ha cedit al consistori una pintura on hi surten representants diversos espais d’interès del municipi.

URI:https://www.dosrius.cat/actualitat/noticies/el-fons-dart-de-lajuntament-es-nodreix-amb-un-quadre-de-nel-boya-de-groot-.html
CLASS:PUBLIC
END:VEVENT
END:VCALENDAR
