BEGIN:VCALENDAR
VERSION:2.0
CALSCALE:GREGORIAN
PRODID:-//Diputació de Barcelona//DibaCMS//EN
BEGIN:VEVENT
UID:2112
DTSTAMP:20260422T103821
DTSTART:20190409T090000
DTEND:20480424T000000
SUMMARY:Nous avenços en l’execució del projecte d’urbanització de can Batlle 
LOCATION:
METHOD:PUBLISH
X-WR-CALNAME:dosrius@dosrius.cat
X-WR-TIMEZONE:Europe/Madrid
DESCRIPTION:L’Ajuntament ha donat per finalitzat el soterrament del clavegueram, la canalització del Torrent d’en Vergés, l’habilitació d’un mur de contenció i la construcció de la vorada dels carrers adjacents.

URI:https://www.dosrius.cat/actualitat/noticies/nous-avencos-en-lexecucio-del-projecte-durbanitzacio-de-can-batlle-.html
CLASS:PUBLIC
END:VEVENT
END:VCALENDAR
