BEGIN:VCALENDAR
VERSION:2.0
CALSCALE:GREGORIAN
PRODID:-//Diputació de Barcelona//DibaCMS//EN
BEGIN:VEVENT
UID:2102
DTSTAMP:20260422T135259
DTSTART:20190409T140000
DTEND:20480319T000000
SUMMARY:Desmantellada una plantació interior de marihuana a Can Massuet del Far
LOCATION:
METHOD:PUBLISH
X-WR-CALNAME:dosrius@dosrius.cat
X-WR-TIMEZONE:Europe/Madrid
DESCRIPTION:L’actuació policial ha permès confiscar una important quantitat de marihuana a l’interior d’un domicili de Can Massuet del Far dedicat al cultiu d’aquesta substància. 

URI:https://www.dosrius.cat/actualitat/noticies/desmantellada-una-plantacio-interior-de-marihuana-a-can-massuet-del-far.html
CLASS:PUBLIC
END:VEVENT
END:VCALENDAR
