BEGIN:VCALENDAR
VERSION:2.0
CALSCALE:GREGORIAN
PRODID:-//Diputació de Barcelona//DibaCMS//EN
BEGIN:VEVENT
UID:2085
DTSTAMP:20260422T134803
DTSTART:20190321T110000
DTEND:20480312T000000
SUMMARY:Dosrius viu la cultura a flor de pell 
LOCATION:
METHOD:PUBLISH
X-WR-CALNAME:dosrius@dosrius.cat
X-WR-TIMEZONE:Europe/Madrid
DESCRIPTION:Del 29 de març a l’1 de maig l’Ajuntament impulsa una nova edició del programa ‘A Dosrius la cultura es viu’, que ofereix als veïns i veïnes propostes lúdiques i culturals per a tots els públics.

URI:https://www.dosrius.cat/actualitat/noticies/dosrius-viu-la-cultura-a-flor-de-pell-.html
CLASS:PUBLIC
END:VEVENT
END:VCALENDAR
