BEGIN:VCALENDAR
VERSION:2.0
CALSCALE:GREGORIAN
PRODID:-//Diputació de Barcelona//DibaCMS//EN
BEGIN:VEVENT
UID:2083
DTSTAMP:20260422T172533
DTSTART:20190315T000000
DTEND:20480320T000000
SUMMARY:La Generalitat implementa a Dosrius un programa de mentoria pels joves migrants sense referents familiars
LOCATION:
METHOD:PUBLISH
X-WR-CALNAME:dosrius@dosrius.cat
X-WR-TIMEZONE:Europe/Madrid
DESCRIPTION:Les persones interessades en formar part del projecte com a mentors ja poden inscriure’s. Dimecres 27 de març, la Sala de Plens acollirà una reunió informativa oberta a tota la ciutadania.

URI:https://www.dosrius.cat/actualitat/noticies/la-generalitat-implementa-a-dosrius-un-programa-de-mentoria-pels-joves-migrants-sense-referents-familiars.html
CLASS:PUBLIC
END:VEVENT
END:VCALENDAR
