BEGIN:VCALENDAR
VERSION:2.0
CALSCALE:GREGORIAN
PRODID:-//Diputació de Barcelona//DibaCMS//EN
BEGIN:VEVENT
UID:2079
DTSTAMP:20260420T113358
DTSTART:20190308T100000
DTEND:20480320T000000
SUMMARY:Dosrius se suma al projecte artístic ‘Enyorança Catalunya avui’, de l’artista danès Michael Kirkegaard
LOCATION:
METHOD:PUBLISH
X-WR-CALNAME:dosrius@dosrius.cat
X-WR-TIMEZONE:Europe/Madrid
DESCRIPTION:L’Ajuntament ha donat una mostra de sauló de riera provinent de l’aiguabarreig de les rieres de Canyamars i el Far per a que formi part d’una exposició inèdita que recollirà terra provinent de diversos municipis de tot el país.

URI:https://www.dosrius.cat/actualitat/noticies/dosrius-se-suma-al-projecte-artistic-enyoranca-catalunya-avui-de-lartista-danes-michael-kirkegaard.html
CLASS:PUBLIC
END:VEVENT
END:VCALENDAR
