BEGIN:VCALENDAR
VERSION:2.0
CALSCALE:GREGORIAN
PRODID:-//Diputació de Barcelona//DibaCMS//EN
BEGIN:VEVENT
UID:2076
DTSTAMP:20260420T142134
DTSTART:20190306T000000
DTEND:20480319T000000
SUMMARY:Dosrius acull la presentació del llibre ‘Els poetes del Maresme’ 
LOCATION:
METHOD:PUBLISH
X-WR-CALNAME:dosrius@dosrius.cat
X-WR-TIMEZONE:Europe/Madrid
DESCRIPTION:El volum ofereix una aproximació als principals escriptors que ha vist néixer la comarca des del XVI fins a l’any 2000; entre ells, Esteve Albert i Corp i Joan Lagunas i Renom, de Dosrius i Canyamars respectivament.

URI:https://www.dosrius.cat/actualitat/noticies/dosrius-acull-la-presentacio-del-llibre-els-poetes-del-maresme-.html
CLASS:PUBLIC
END:VEVENT
END:VCALENDAR
