BEGIN:VCALENDAR
VERSION:2.0
CALSCALE:GREGORIAN
PRODID:-//Diputació de Barcelona//DibaCMS//EN
BEGIN:VEVENT
UID:2075
DTSTAMP:20260422T103502
DTSTART:20190305T150000
DTEND:20480313T000000
SUMMARY:Una nova rotonda millorarà la mobilitat a la intersecció entre la carretera B-510 i la ronda Francesc Macià
LOCATION:
METHOD:PUBLISH
X-WR-CALNAME:dosrius@dosrius.cat
X-WR-TIMEZONE:Europe/Madrid
DESCRIPTION:L’actuació preveurà també la construcció de la vorera pendent a la ronda que connectarà els carrers Mn. Cinto Verdaguer i el carrer Can Vallmajor per a vianants.

URI:https://www.dosrius.cat/actualitat/noticies/una-nova-rotonda-millorara-la-mobilitat-a-la-interseccio-entre-la-carretera-b-510-i-la-ronda-francesc-macia.html
CLASS:PUBLIC
END:VEVENT
END:VCALENDAR
