BEGIN:VCALENDAR
VERSION:2.0
CALSCALE:GREGORIAN
PRODID:-//Diputació de Barcelona//DibaCMS//EN
BEGIN:VEVENT
UID:2072
DTSTAMP:20260422T103958
DTSTART:20190307T070000
DTEND:20480306T000000
SUMMARY:Dosrius commemorarà el Dia Internacional de les Dones amb diversos tallers i la lectura d’un manifest
LOCATION:
METHOD:PUBLISH
X-WR-CALNAME:dosrius@dosrius.cat
X-WR-TIMEZONE:Europe/Madrid
DESCRIPTION:L’Ajuntament també s’adhereix a la campanya impulsada per la Generalitat per superar els estereotips de gènere que es transmeten als infants a través del temps de joc i les joguines. 

URI:https://www.dosrius.cat/actualitat/noticies/dosrius-commemorara-el-dia-internacional-de-les-dones-amb-diversos-tallers-i-la-lectura-dun-manifest.html
CLASS:PUBLIC
END:VEVENT
END:VCALENDAR
