BEGIN:VCALENDAR
VERSION:2.0
CALSCALE:GREGORIAN
PRODID:-//Diputació de Barcelona//DibaCMS//EN
BEGIN:VEVENT
UID:2070
DTSTAMP:20260422T120034
DTSTART:20190228T000000
DTEND:20480228T000000
SUMMARY:L’Ajuntament dona continuïtat al projecte de millora del Cementiri Municipal amb noves actuacions
LOCATION:
METHOD:PUBLISH
X-WR-CALNAME:dosrius@dosrius.cat
X-WR-TIMEZONE:Europe/Madrid
DESCRIPTION:El consistori ha dut a terme l’arranjament de la façana i de la porta d’accés a la instal·lació. 

URI:https://www.dosrius.cat/actualitat/noticies/lajuntament-dona-continuitat-al-projecte-de-millora-del-cementiri-municipal-amb-noves-actuacions.html
CLASS:PUBLIC
END:VEVENT
END:VCALENDAR
