BEGIN:VCALENDAR
VERSION:2.0
CALSCALE:GREGORIAN
PRODID:-//Diputació de Barcelona//DibaCMS//EN
BEGIN:VEVENT
UID:2068
DTSTAMP:20260422T151431
DTSTART:20190226T000000
DTEND:20480213T000000
SUMMARY:Avancen a bon ritme les obres d’urbanització de Can Batlle
LOCATION:
METHOD:PUBLISH
X-WR-CALNAME:dosrius@dosrius.cat
X-WR-TIMEZONE:Europe/Madrid
DESCRIPTION:El pla té com a objectiu reactivar la zona, millorar l’accessibilitat, mobilitat i seguretat dels diferents carrers i convertir aquest espai en la seu del nou edifici de l’Institut Els Roures i de la nova Biblioteca Esteve Albert i Corp.

URI:https://www.dosrius.cat/actualitat/noticies/avancen-a-bon-ritme-les-obres-durbanitzacio-de-can-batlle.html
CLASS:PUBLIC
END:VEVENT
END:VCALENDAR
