BEGIN:VCALENDAR
VERSION:2.0
CALSCALE:GREGORIAN
PRODID:-//Diputació de Barcelona//DibaCMS//EN
BEGIN:VEVENT
UID:2055
DTSTAMP:20260422T151709
DTSTART:20190215T120000
DTEND:20480220T000000
SUMMARY:L’Ajuntament incorpora un original del llibre ‘Petita Vall’ d’Esteve Albert i Corp
LOCATION:
METHOD:PUBLISH
X-WR-CALNAME:dosrius@dosrius.cat
X-WR-TIMEZONE:Europe/Madrid
DESCRIPTION:El consistori agraeix a la senyora Anna Garcia Gotarra la donació d’aquest exemplar d’alt valor literari i simbòlic. 

URI:https://www.dosrius.cat/actualitat/noticies/lajuntament-incorpora-un-original-del-llibre-petita-vall-desteve-albert-i-corp.html
CLASS:PUBLIC
END:VEVENT
END:VCALENDAR
